Workbook

Sheet 申請書兼掲載承諾書
A1: 様式CCF-01（建築）
X2: 年 月 日
A3: 一般財団法人ベターリビング
A4: 理事長 殿
O5: 申請者 | R5: 会社名
R6: 代表者名
R7: 所在地
M8: ※申請者が複数人となる場合、代表となる申請者を記載し他の申請者は別紙に記載
A10: CASBEE建築評価認証申請書兼掲載承諾書
A12: 建築環境総合性能評価認証制度要綱に基づく認証を受けたいので、関係書類を添えて申請いたします。この申請書及び添付図書に記載の事項は、事実と相違ありません。また認証後に、下記に記載の公開項目及び備考欄に記載の項目について、一般財団法人住宅・建築 SDGs 推進センター（IBECs）及び一般財団法人ベターリビング（CBL）ホームページにおける認証物件一覧に掲載することを承諾します。
A14: 記
A15: 1 建物名称・所在地 (公開は市町村名迄) | I15: 公開 | M15: 建物名称：
I16: 公開 | M16: 所在地：
A17: 2 設計者・施工者 ※既存建物は確認可能な場合のみ ※IBECsホームページでは非公開 | I17: FALSE | J17: 公開 | M17: 設計者：
J18: 非公開 | M18: 施工者：
A19: 3 建物用途・規模 | I19: 公開 | M19: 用 途：
M20: その他の用途※ | R20: （ | AD20: ）
M21: ※評価対象以外の用途が建物内に含まれる場合
I22: 公開 | M22: 延べ面積： | U22: ㎡ | V22: 地上 | Y22: 階、地下 | AC22: 階
M23: （うち評価対象範囲の延べ面積： | Z23: ㎡）
A24: 4 竣工年月日 | I24: 公開 | M24: 年 月 日 | U24: （新築は予定でも可）
A25: 5 CASBEE評価ツール | I25: 公開 | R25: ( | U25: 年版) | AG25: CASBEE-建築(新築)
A26: 6 評価段階 | I26: 公開 | M26: FALSE | N26: 基本設計段階 | S26: 実施設計段階 | W26: FALSE | X26: 竣工段階 | AG26: CASBEE-建築(既存)
L27: ※評価ツールがCASBEE建築（新築）の場合のみ記入 | AG27: CASBEE-建築(改修)
A28: 7 評価者氏名 ※評価を実施した者の氏名を記載 | I28: 非公開 | M28: 会社名：
M29: 氏名：
M30: CASBEE-建築評価員登録番号：
A31: 8 申請者 | I31: 公開 | M31: 法人名：
A32: 9 連絡担当者 ※連絡をさせて頂く際の担当者を 記載 ※請求書、認証書等又は質疑書の 送付先が連絡担当者と異なる 場合は別紙に記載 | I32: 非公開 | M32: 会社名：
M33: 所属： | V33: 役職名：
M34: 氏名：
M35: 住所： | O35: 〒
M37: 連絡先：(電話) | V37: (E-mail)
A38: 10 物件画像(CG可) ※IBECsホームページのみ | I38: FALSE | J38: 公開 | M38: 非公開にできるのは完成写真が無い場合のみです。
J39: 非公開
A40: 11 スコアシート | J40: 公開 | M40: 任意の掲載項目ですが、積極的公開をお願いいたします。
I41: FALSE | J41: 非公開
A42: 12 SDGs評価結果(2021年以降) | I42: FALSE | J42: 公開 | M42: 評価認証対象外ですが、自主評価の内容を公開可能です。
J43: 非公開
A44: 備 考 認証後、上記の公開項目に加えて、評価結果書、評価ランク、認証日、有効期限とともにIBECs及び CBLホームページ上に掲載されます。(認証時までに掲載名称が変更となった場合は当該名称と します。)また、申請に添付した評価ツールのデータについては、IBECsにおいて匿名化した上で 統計等に活用されることがあることをご了承ください。
...

Sheet 委任状
A1: 様式CCF-08
A3: 委 任 状
W6: =申請書兼掲載承諾書!X2 -> 年 月 日
A8: 一般財団法人ベターリビング
A9: 理事長 様
P10: 申請者
P11: 氏 名 | S11: =IF(申請書兼掲載承諾書!U5="","",申請書兼掲載承諾書!U5)
P12: 住 所 | S12: =IF(申請書兼掲載承諾書!U7="","",申請書兼掲載承諾書!U7)
A16: 私は( | L16: )を代理人と定め、一般財団法人ベターリビングへの
A17: 下記のCASBEE評価認証申請に係る手続き等に関する一切の権限を委任します。
A20: 記
A23: １.建築物又は住宅の名称
C24: =IF(申請書兼掲載承諾書!P15="","",申請書兼掲載承諾書!P15)
A26: ２.建 設 地
C27: =IF(申請書兼掲載承諾書!P16="","",申請書兼掲載承諾書!P16)

Sheet 取下届
A1: 様式CCF-04 | AE1: 申請受理後の取下げ時にご提出ください。
A3: CASBEE評価認証取り下げ届
W6: 年 月 日
A8: 一般財団法人ベターリビング
A9: 理事長 殿
P12: 会社名
P13: 代表者名
P14: 所在地
P15: 電 話
A18: 年 月 日 | I18: 付のCASBEE評価認証申請について、下記の理由により申請を取り
A19: 下げます。
A22: 記
A25: １.建築物の名称
A28: ２.建 設 地
A31: ３.申請取り下げの理由

Sheet 変更申告書
A1: 様式CCF-05 | AE1: 当財団へ申請を提出された後、認証が完了するまでの間に内容を変更される場合にご提出ください。
W2: 年 月 日
A4: CASBEE評価認証申請内容変更申告書
A7: 一般財団法人ベターリビング
A8: 理事長 殿
P10: 会社名
P11: 代表者名
A13: 年 月 日 | H13: 付のCASBEE評価認証申請（ | Z13: ）について、
A14: CASBEE評価認証業務規程に基づき申請内容の変更を申告します。
A16: 受付番号： | O16: 建物名称：
A17: 環境配慮項目 | M17: 変更内容説明欄
A18: 大項目 | G18: 小項目
A35: 〔記入事項〕
A36: 1.「環境配慮項目」欄には、変更のあった配慮項目（大項目・小項目）をご記入下さい。
A37: 2. 「変更内容説明欄」には、具体的な変更の内容及び添付する設計図書等の名称を記載してください。

Sheet 変更届兼掲載承諾書
A1: 参考様式 | AE1: 当財団で認証を受けられた案件に対して変更申請をされる場合にご提出ください。
X2: 年 月 日
A4: CASBEE評価認証変更届兼掲載承諾書
A6: 一般財団法人ベターリビング
A7: 理事長 殿
O8: 申請者 | R8: 会社名
R9: 代表者名
R10: 所在地
M11: ※申請者が複数人となる場合、代表となる申請者を記載し他の申請者は別紙に記載
B12: 建築環境総合性能評価認証制度要綱に基づき認証を受けた下記1の建物について、下記2のとおり表記に変更が生じたため、変更届を提出します。この変更届及び添付図書に記載の事項は、事実に相違ありません。 また、一般財団法人住宅・建築 SDGs 推進センター（IBECs）及び一般財団法人ベターリビング(CBL)ホームページにおいて掲載されている下記１の認証物件について、下記２の変更を行った上、引き続き掲載することを承諾します。
A14: 記
A15: １．認証を受けた建物
B16: 認証番号：
B17: 認証日： | H17: 年 月 日
B18: 建物名称：
B19: 申請者：
B20: 建設地：
B21: 評価ツール：
B22: 有効期限： | H22: 年 月 日
B24: （注）認証書のとおりに記載してください。
A26: ２．変更の内容
C27: 建物名称 変更後の建物名称：
C28: 申請者名 変更後の申請者名：
C29: 建設地 変更後の建設地：
B31: （注1）建設地を公開する際は市区町村名までの表記となります。
B32: （注2）変更により評価結果書が変更となる場合、変更後の評価結果書（Excel）も提出してください。
B33: （注3）上記以外の変更は新規申請が必要です。
A37: 別紙
A38: ・複数申請者 ※申請者が複数人となる場合のみ記載
A39: 会社名 | K39: 代表者名 | U39: 所在地
A44: ・連絡先
A45: 会 社 名
A46: 所 属
A47: 氏 名
A48: 住 所 | E48: 〒
A49: 電話番号
A50: E-mail
A52: ・請求書送付先 ※原則、PDFにてメール送付しております。
A53: 会 社 名
A54: 所 属
...

Sheet FM取込用
A1: 申請者１_会社名 | B1: 申請者１_代表者 | C1: 申請者１_所在地 | D1: 申請者２_会社名 | E1: 申請者２_代表者 | F1: 申請者２_所在地 | G1: 建物名称 | H1: 建設地 | I1: 設計者 | J1: 施工者 | K1: 建物用途 | L1: 延べ面積 | M1: 階数 | N1: 竣工予定日 | O1: 評価対象面積 | P1: 評価ツール | Q1: 評価段階 | R1: 作成会社名 | S1: 作成者 | T1: 登録番号 | U1: 代行社名 | V1: 代行〒 | W1: 代行住所 | X1: 代行所属 | Y1: 代行役職 | Z1: 代行氏名 | AA1: 代行TEL | AB1: 代行Mail | AC1: 連絡先社名 | AD1: 連絡先〒 | AE1: 連絡先住所 | AF1: 連絡先所属 | AG1: 連絡先役職 | AH1: 連絡先氏名 | AI1: 連絡先TEL | AJ1: 連絡先Mail | AK1: 請求先社名 | AL1: 請求先〒 | AM1: 請求先住所 | AN1: 請求先TEL | AO1: 請求先所属 | AP1: 請求先氏名 | AQ1: 請求書宛名 | AR1: 請求先Mail | AS1: 紙交付希望 | AT1: 紙請求希望 | AU1: 設計施工公開 | AV1: 写真公開 | AW1: スコアシート公開 | AX1: SDGs公開
A2: =申請書兼掲載承諾書!U5 -> 0 | B2: =申請書兼掲載承諾書!U6 -> 0 | C2: =申請書兼掲載承諾書!U7 -> 0 | D2: =IF(申請書兼掲載承諾書!A51="","",申請書兼掲載承諾書!A51) | E2: =IF(申請書兼掲載承諾書!B51="","",申請書兼掲載承諾書!B51) | F2: =IF(申請書兼掲載承諾書!C51="","",申請書兼掲載承諾書!C51) | G2: =申請書兼掲載承諾書!P15 -> 0 | H2: =申請書兼掲載承諾書!P16 -> 0 | I2: =申請書兼掲載承諾書!P17 -> 0 | J2: =申請書兼掲載承諾書!P18 -> 0 | K2: =申請書兼掲載承諾書!P19 -> 0 | L2: =申請書兼掲載承諾書!P22 -> 0 | M2: ="地上 "&申請書兼掲載承諾書!X22&"階、地下 "&申請書兼掲載承諾書!AB22&"階" -> 地上 階、地下 階 | N2: =申請書兼掲載承諾書!M24 -> 年 月 日 | O2: =申請書兼掲載承諾書!V23 -> 0 | P2: =IF(申請書兼掲載承諾書!S25=2021,"CASBEE-建築（新築）("&申請書兼掲載承諾書!S25&"年SDGs対応版）",申請書兼掲載承諾書!M25&申請書兼掲載承諾書!R25&申請書兼掲載承諾書!S25&"版）") -> (版） | Q2: =IF(申請書兼掲載承諾書!M26,"基本設計段階",IF(申請書兼掲載承諾書!R26,"実施設計段階",IF(申請書兼掲載承諾書!W26,"竣工段階",""))) | R2: =申請書兼掲載承諾書!P28 -> 0 | S2: =申請書兼掲載承諾書!O29 -> 0 | T2: =申請書兼掲載承諾書!U30 -> 0 | U2: =IF(申請書兼掲載承諾書!F65="","",申請書兼掲載承諾書!F65) | V2: =IF(申請書兼掲載承諾書!F68="","",申請書兼掲載承諾書!F68) | W2: =IF(申請書兼掲載承諾書!J68="","",申請書兼掲載承諾書!J68) | X2: =IF(申請書兼掲載承諾書!F66="","",申請書兼掲載承諾書!F66) | Y2: =IF(申請書兼掲載承諾書!U66="","",申請書兼掲載承諾書!U66) | Z2: =IF(申請書兼掲載承諾書!F67="","",申請書兼掲載承諾書!F67) | AA2: =IF(申請書兼掲載承諾書!F69="","",申請書兼掲載承諾書!F69) | AB2: =IF(申請書兼掲載承諾書!F70="","",申請書兼掲載承諾書!F70) | AC2: =申請書兼掲載承諾書!P32 -> 0 | AD2: =申請書兼掲載承諾書!P35 -> 0 | AE2: =申請書兼掲載承諾書!O36 -> 0 | AF2: =申請書兼掲載承諾書!O33 -> 0 | AG2: =申請書兼掲載承諾書!Y33 -> 0 | AH2: =申請書兼掲載承諾書!O34 -> 0 | AI2: =申請書兼掲載承諾書!Q37 -> 0 | AJ2: =申請書兼掲載承諾書!Y37 -> 0 | AK2: =申請書兼掲載承諾書!F56 -> 0 | AL2: =申請書兼掲載承諾書!F59 -> 0 | AM2: =申請書兼掲載承諾書!J59 -> 0 | AN2: =申請書兼掲載承諾書!F60 -> 0 | AO2: =申請書兼掲載承諾書!F74 -> 0 | AP2: =申請書兼掲載承諾書!F58 -> 0 | AQ2: =IF(申請書兼掲載承諾書!Q62<>"",申請書兼掲載承諾書!F61,申請書兼掲載承諾書!K55) -> 0 | AR2: =申請書兼掲載承諾書!F61 -> 0 | AS2: =IF(申請書兼掲載承諾書!F101,"1","0") -> 0 | AT2: =IF(申請書兼掲載承諾書!F98,"1","0") -> 0 | AU2: =IF(申請書兼掲載承諾書!I17,"公開",IF(申請書兼掲載承諾書!I18,"非公開","")) | AV2: =IF(申請書兼掲載承諾書!I38,"公開",IF(申請書兼掲載承諾書!I39,"非公開","")) | AW2: =IF(申請書兼掲載承諾書!I40,"公開",IF(申請書兼掲載承諾書!I41,"非公開","")) | AX2: =IF(申請書兼掲載承諾書!I42,"公開",IF(申請書兼掲載承諾書!I43,"非公開",""))
